BEGIN:VCALENDAR
VERSION:2.0
PRODID:-//Judo Club Brivois - ECPv6.15.20//NONSGML v1.0//EN
CALSCALE:GREGORIAN
METHOD:PUBLISH
X-ORIGINAL-URL:https://judoclubbrivois.fr
X-WR-CALDESC:Évènements pour Judo Club Brivois
REFRESH-INTERVAL;VALUE=DURATION:PT1H
X-Robots-Tag:noindex
X-PUBLISHED-TTL:PT1H
BEGIN:VTIMEZONE
TZID:Europe/Paris
BEGIN:DAYLIGHT
TZOFFSETFROM:+0100
TZOFFSETTO:+0200
TZNAME:CEST
DTSTART:20180325T010000
END:DAYLIGHT
BEGIN:STANDARD
TZOFFSETFROM:+0200
TZOFFSETTO:+0100
TZNAME:CET
DTSTART:20181028T010000
END:STANDARD
BEGIN:DAYLIGHT
TZOFFSETFROM:+0100
TZOFFSETTO:+0200
TZNAME:CEST
DTSTART:20190331T010000
END:DAYLIGHT
BEGIN:STANDARD
TZOFFSETFROM:+0200
TZOFFSETTO:+0100
TZNAME:CET
DTSTART:20191027T010000
END:STANDARD
BEGIN:DAYLIGHT
TZOFFSETFROM:+0100
TZOFFSETTO:+0200
TZNAME:CEST
DTSTART:20200329T010000
END:DAYLIGHT
BEGIN:STANDARD
TZOFFSETFROM:+0200
TZOFFSETTO:+0100
TZNAME:CET
DTSTART:20201025T010000
END:STANDARD
BEGIN:DAYLIGHT
TZOFFSETFROM:+0100
TZOFFSETTO:+0200
TZNAME:CEST
DTSTART:20210328T010000
END:DAYLIGHT
BEGIN:STANDARD
TZOFFSETFROM:+0200
TZOFFSETTO:+0100
TZNAME:CET
DTSTART:20211031T010000
END:STANDARD
BEGIN:DAYLIGHT
TZOFFSETFROM:+0100
TZOFFSETTO:+0200
TZNAME:CEST
DTSTART:20220327T010000
END:DAYLIGHT
BEGIN:STANDARD
TZOFFSETFROM:+0200
TZOFFSETTO:+0100
TZNAME:CET
DTSTART:20221030T010000
END:STANDARD
BEGIN:DAYLIGHT
TZOFFSETFROM:+0100
TZOFFSETTO:+0200
TZNAME:CEST
DTSTART:20230326T010000
END:DAYLIGHT
BEGIN:STANDARD
TZOFFSETFROM:+0200
TZOFFSETTO:+0100
TZNAME:CET
DTSTART:20231029T010000
END:STANDARD
BEGIN:DAYLIGHT
TZOFFSETFROM:+0100
TZOFFSETTO:+0200
TZNAME:CEST
DTSTART:20240331T010000
END:DAYLIGHT
BEGIN:STANDARD
TZOFFSETFROM:+0200
TZOFFSETTO:+0100
TZNAME:CET
DTSTART:20241027T010000
END:STANDARD
BEGIN:DAYLIGHT
TZOFFSETFROM:+0100
TZOFFSETTO:+0200
TZNAME:CEST
DTSTART:20250330T010000
END:DAYLIGHT
BEGIN:STANDARD
TZOFFSETFROM:+0200
TZOFFSETTO:+0100
TZNAME:CET
DTSTART:20251026T010000
END:STANDARD
BEGIN:DAYLIGHT
TZOFFSETFROM:+0100
TZOFFSETTO:+0200
TZNAME:CEST
DTSTART:20260329T010000
END:DAYLIGHT
BEGIN:STANDARD
TZOFFSETFROM:+0200
TZOFFSETTO:+0100
TZNAME:CET
DTSTART:20261025T010000
END:STANDARD
END:VTIMEZONE
BEGIN:VEVENT
DTSTART;VALUE=DATE:20250629
DTEND;VALUE=DATE:20250630
DTSTAMP:20260422T193423
CREATED:20250519T073303Z
LAST-MODIFIED:20250519T073307Z
UID:3390-1751155200-1751241599@judoclubbrivois.fr
SUMMARY:40 ans du Judo Club Brivois
DESCRIPTION:1985-2025 \nLe club fête des 40 ans d’existence. \nDes milliers de jeunes judokas en herbe ont foulé depuis 4 décennies les tatamis de notre dojo. \nÀ l’occasion de cet anniversaire unique\, nous aurons la chance de partager une journée spéciale avec le judoka Kevin Azéma\, triple champion de France\, à la Maison Pour Tous de Brives-Charensac. \nÀ l’occasion de sa venue\, des entraînements seront prévus sous sa direction\, ainsi qu’un repas et des séances photos sur toute la journée. \nTous les détails ici >>
URL:https://judoclubbrivois.fr/event/40-ans-du-judo-club-brivois/
LOCATION:MPT de Brives-Charensac\, 1 Route de Coubon\, Brives-Charensac\, 43770\, France
CATEGORIES:Calendrier
ORGANIZER;CN="Judo Club Brivois":MAILTO:judoclubbrivois@gmail.com
END:VEVENT
BEGIN:VEVENT
DTSTART;TZID=Europe/Paris:20250620T180000
DTEND;TZID=Europe/Paris:20250620T203000
DTSTAMP:20260422T193423
CREATED:20250519T072721Z
LAST-MODIFIED:20250521T095719Z
UID:3387-1750442400-1750451400@judoclubbrivois.fr
SUMMARY:La traditionnelle remise des ceintures
DESCRIPTION:La traditionnelle remise des ceintures\, qui récompense chaque année l’implication\, le sérieux et l’assiduité de nos judokas\, se déroulera le vendredi 20 juin à 18h30. \nCes grades de ceinture attribués au judoka permettent d’évaluer son niveau technique\, son efficacité en combat\, son degré d’ancienneté ainsi que ses qualités morales\, ce qui correspond au respect scrupuleux du code moral ainsi qu’un investissement suffisant dans la pratique. \nLa remise des ceintures sera suivie de notre Assemblée Générale et d’un verre de l’amitié pour finir dans la cordialité et la bonne humeur cette saison sportive 2024-25.
URL:https://judoclubbrivois.fr/event/la-traditionnelle-remise-des-ceintures/
LOCATION:Dojo de Corsac\, rue de Corsac\, Brives-CHarensac\, 43700\, France
CATEGORIES:Calendrier
ORGANIZER;CN="Judo Club Brivois":MAILTO:judoclubbrivois@gmail.com
END:VEVENT
BEGIN:VEVENT
DTSTART;VALUE=DATE:20250518
DTEND;VALUE=DATE:20250519
DTSTAMP:20260422T193423
CREATED:20250519T072225Z
LAST-MODIFIED:20250519T072225Z
UID:3384-1747526400-1747612799@judoclubbrivois.fr
SUMMARY:Médailles de Brives 2025
DESCRIPTION:Cette année\, notre animation départementale des Médailles de Brives se déroulera le dimanche 18 mai au dojo de Corsac à 43700 Brives-Charensac. \n \n 
URL:https://judoclubbrivois.fr/event/medailles-de-brives-2025/
LOCATION:Dojo de Corsac\, rue de Corsac\, Brives-CHarensac\, 43700\, France
CATEGORIES:Calendrier
ORGANIZER;CN="Judo Club Brivois":MAILTO:judoclubbrivois@gmail.com
END:VEVENT
BEGIN:VEVENT
DTSTART;VALUE=DATE:20230611
DTEND;VALUE=DATE:20230612
DTSTAMP:20260422T193423
CREATED:20230516T142345Z
LAST-MODIFIED:20230516T142345Z
UID:2846-1686441600-1686527999@judoclubbrivois.fr
SUMMARY:Animation de Monistrol Budo
DESCRIPTION:
URL:https://judoclubbrivois.fr/event/animation-de-monistrol-budo/
LOCATION:Monistrol Budo\, allée Vitalis Royer\, Monistrol-sur-Loire\, 43120
CATEGORIES:Calendrier
ORGANIZER;CN="Monistrol Budo":MAILTO:monistrolbudo@gmail.com
END:VEVENT
BEGIN:VEVENT
DTSTART;VALUE=DATE:20230514
DTEND;VALUE=DATE:20230515
DTSTAMP:20260422T193423
CREATED:20230516T142308Z
LAST-MODIFIED:20230516T142308Z
UID:2843-1684022400-1684108799@judoclubbrivois.fr
SUMMARY:Médailles de Brives
DESCRIPTION:
URL:https://judoclubbrivois.fr/event/medailles-de-brives-3/
LOCATION:Dojo de Corsac\, rue de Corsac\, Brives-CHarensac\, 43700\, France
CATEGORIES:Calendrier
ORGANIZER;CN="Judo Club Brivois":MAILTO:judoclubbrivois@gmail.com
END:VEVENT
BEGIN:VEVENT
DTSTART;TZID=Europe/Paris:20220612T083000
DTEND;TZID=Europe/Paris:20220612T173000
DTSTAMP:20260422T193423
CREATED:20220523T083841Z
LAST-MODIFIED:20220523T083841Z
UID:1999-1655022600-1655055000@judoclubbrivois.fr
SUMMARY:Animation judo - Monistrol Budo
DESCRIPTION:  \nCompétition départementale de judo avec Monistrol Budo\, au gymnase du Mazel.
URL:https://judoclubbrivois.fr/event/animation-judo-monistrol-budo/
LOCATION:Monistrol Budo\, allée Vitalis Royer\, Monistrol-sur-Loire\, 43120
CATEGORIES:Calendrier
ORGANIZER;CN="Monistrol Budo":MAILTO:monistrolbudo@gmail.com
END:VEVENT
BEGIN:VEVENT
DTSTART;TZID=Europe/Paris:20220522T090000
DTEND;TZID=Europe/Paris:20220522T180000
DTSTAMP:20260422T193423
CREATED:20211130T180107Z
LAST-MODIFIED:20220406T141607Z
UID:1879-1653210000-1653242400@judoclubbrivois.fr
SUMMARY:Médailles de Brives
DESCRIPTION:Animation interclubs Haute-Loire. \nProgramme de la journée : \n\n9h : mini-poussins 2014\n10h30 : mini-poussins 2015\n14h : poussins 2012/13\n15h30 : benjamins 2010/11\n16h30 : minimes 2008/09\n\n \n 
URL:https://judoclubbrivois.fr/event/medailles-de-brives-2022/
LOCATION:Dojo de Corsac\, rue de Corsac\, Brives-CHarensac\, 43700\, France
CATEGORIES:Calendrier
ORGANIZER;CN="Judo Club Brivois":MAILTO:judoclubbrivois@gmail.com
END:VEVENT
BEGIN:VEVENT
DTSTART;TZID=Europe/Paris:20220418T100000
DTEND;TZID=Europe/Paris:20220420T160000
DTSTAMP:20260422T193423
CREATED:20220328T133340Z
LAST-MODIFIED:20220328T133340Z
UID:1921-1650276000-1650470400@judoclubbrivois.fr
SUMMARY:STAGE DEPARTEMENTAL BENJAMIN(E)S/MINIMES/CADET(TE)S
DESCRIPTION:Accueil des stagiaires lundi 18/04 à 09h30 \nDébut du stage lundi 18/04 à 10h \nFin du stage mercredi 20/04 à 16h \nStage avec hébergement \n*** \nContact\nCHAZOT JEROME\n06 87 24 57 92
URL:https://judoclubbrivois.fr/event/stage-departemental-benjamines-minimes-cadettes/
LOCATION:Yssingeaux\, La Scie de Choumouroux\, Yssingeaux\, 43200\, France
CATEGORIES:Calendrier
ORGANIZER;CN="Comit%C3%A9 d%C3%A9partemental de la Haute-Loire":MAILTO:comite.judo43@aurajudo.com
END:VEVENT
BEGIN:VEVENT
DTSTART;TZID=Europe/Paris:20220402T133000
DTEND;TZID=Europe/Paris:20220402T170000
DTSTAMP:20260422T193423
CREATED:20220327T110757Z
LAST-MODIFIED:20220328T133013Z
UID:1917-1648906200-1648918800@judoclubbrivois.fr
SUMMARY:Critérium départemental Benjamin(e)s
DESCRIPTION:Yssingeaux – 2 avril. \nCritérium départemental Benjamin(e)s \nAccueil à 13h30 \nPesée benjamins : 14h \nPesée benjamines : 15h \nPasseport sportif à jour \n*** \nContact\nCHAZOT JEROME\n06 87 24 57 92\njerome.chazot@ffjudo.com
URL:https://judoclubbrivois.fr/event/criterium-departemental/
LOCATION:Yssingeaux\, La Scie de Choumouroux\, Yssingeaux\, 43200\, France
CATEGORIES:Calendrier
ORGANIZER;CN="Comit%C3%A9 d%C3%A9partemental de la Haute-Loire":MAILTO:comite.judo43@aurajudo.com
END:VEVENT
BEGIN:VEVENT
DTSTART;TZID=Europe/Paris:20211211T133000
DTEND;TZID=Europe/Paris:20211211T173000
DTSTAMP:20260422T193423
CREATED:20211130T180028Z
LAST-MODIFIED:20211130T180028Z
UID:1877-1639229400-1639243800@judoclubbrivois.fr
SUMMARY:Stage arbitrage et commissaire sportif
DESCRIPTION:
URL:https://judoclubbrivois.fr/event/stage-arbitrage-et-commissaire-sportif/
LOCATION:Yssingeaux\, La Scie de Choumouroux\, Yssingeaux\, 43200\, France
CATEGORIES:Calendrier
ORGANIZER;CN="Comit%C3%A9 d%C3%A9partemental de la Haute-Loire":MAILTO:comite.judo43@aurajudo.com
END:VEVENT
BEGIN:VEVENT
DTSTART;VALUE=DATE:20210314
DTEND;VALUE=DATE:20210315
DTSTAMP:20260422T193423
CREATED:20200921T141626Z
LAST-MODIFIED:20200921T141626Z
UID:1571-1615680000-1615766399@judoclubbrivois.fr
SUMMARY:Animation départementale de Blavozy
DESCRIPTION:
URL:https://judoclubbrivois.fr/event/animation-departementale-de-blavozy-2/
LOCATION:Blavozy\, Place Félix Tempère\, Blavozy\, 43700\, France
CATEGORIES:Calendrier
ATTACH;FMTTYPE=image/png:https://judoclubbrivois.fr/wp-content/uploads/2019/04/agenda-c.png
ORGANIZER;CN="Judo Club Blavozy":MAILTO:contact@judoblavozy.com
END:VEVENT
BEGIN:VEVENT
DTSTART;TZID=Europe/Paris:20210117T080000
DTEND;TZID=Europe/Paris:20210117T170000
DTSTAMP:20260422T193423
CREATED:20200921T141534Z
LAST-MODIFIED:20200921T141534Z
UID:1569-1610870400-1610902800@judoclubbrivois.fr
SUMMARY:Animation départementale de Pont-Salomon
DESCRIPTION:
URL:https://judoclubbrivois.fr/event/animation-departementale-de-pont-salomon/
LOCATION:Pont Salomon\, Pont-Salomon\, 43330\, France
CATEGORIES:Calendrier
ATTACH;FMTTYPE=image/jpeg:https://judoclubbrivois.fr/wp-content/uploads/2019/04/agenda-e.jpg
ORGANIZER;CN="Judo Club Pont Salomon":MAILTO:Stefalceman@orange.fr
END:VEVENT
BEGIN:VEVENT
DTSTART;VALUE=DATE:20201129
DTEND;VALUE=DATE:20201130
DTSTAMP:20260422T193423
CREATED:20200921T141407Z
LAST-MODIFIED:20200921T141407Z
UID:1566-1606608000-1606694399@judoclubbrivois.fr
SUMMARY:Médailles de Brives
DESCRIPTION:Sous couvert d’autorisation d’organisation de l’animation.\nOuvert dès mini-poussin.
URL:https://judoclubbrivois.fr/event/medailles-de-brives-2/
LOCATION:Dojo de Corsac\, rue de Corsac\, Brives-CHarensac\, 43700\, France
CATEGORIES:Calendrier
ATTACH;FMTTYPE=image/png:https://judoclubbrivois.fr/wp-content/uploads/2019/04/agenda-c.png
ORGANIZER;CN="Judo Club Brivois":MAILTO:judoclubbrivois@gmail.com
END:VEVENT
BEGIN:VEVENT
DTSTART;TZID=Europe/Paris:20201114T080000
DTEND;TZID=Europe/Paris:20201114T170000
DTSTAMP:20260422T193423
CREATED:20200921T142059Z
LAST-MODIFIED:20200921T142059Z
UID:1573-1605340800-1605373200@judoclubbrivois.fr
SUMMARY:Circuit régional Minimes et tournoi cadet(te)s
DESCRIPTION:
URL:https://judoclubbrivois.fr/event/circuit-regional-minimes-et-tournoi-cadettes/
LOCATION:Riorges\, 274 Rue Albrecht Ifflander\, Riorges\, 42153\, France
CATEGORIES:Calendrier
ATTACH;FMTTYPE=image/png:https://judoclubbrivois.fr/wp-content/uploads/2019/04/agenda-d.png
ORGANIZER;CN="Ligue AURA":MAILTO:ligue@aurajudo.com
END:VEVENT
BEGIN:VEVENT
DTSTART;VALUE=DATE:20201011
DTEND;VALUE=DATE:20201012
DTSTAMP:20260422T193423
CREATED:20200918T184557Z
LAST-MODIFIED:20201001T081358Z
UID:1505-1602374400-1602460799@judoclubbrivois.fr
SUMMARY:Émilie Andéol à Massot pour promouvoir le judo -> REPORT
DESCRIPTION:ÉVÈNEMENT REPORTÉ !\nLe comité départemental de judo organisera une grande fête du judo\, le dimanche 11 octobre au gymnase de Massot\, au Puy-en-Velay en présence de la championne olympique Émilie Andéol.
URL:https://judoclubbrivois.fr/event/emilie-andeol-a-massot-pour-promouvoir-le-judo/
LOCATION:Le Puy-en-Velay\, Stade massot\, Le puy en velay\, Auvergne\, 43000\, France
CATEGORIES:Calendrier
ATTACH;FMTTYPE=image/jpeg:https://judoclubbrivois.fr/wp-content/uploads/2020/09/emilie-andeol.jpg
ORGANIZER;CN="Comit%C3%A9 d%C3%A9partemental de la Haute-Loire":MAILTO:comite.judo43@aurajudo.com
END:VEVENT
BEGIN:VEVENT
DTSTART;VALUE=DATE:20200919
DTEND;VALUE=DATE:20200920
DTSTAMP:20260422T193423
CREATED:20200918T184005Z
LAST-MODIFIED:20200918T184005Z
UID:1502-1600473600-1600559999@judoclubbrivois.fr
SUMMARY:Stage de rentrée à Yssingeaux
DESCRIPTION:Le comité départemental de la Haute-Loire de judo propose une journée animée par Stéphane Roche. \nCe judoka\, multiple médaillé national\, a débuté et longtemps pratiqué le judo en Haute-Loire. \nCe stage se déroulera le samedi 19 septembre au déjo départemental à Yssingeaux. \nVoici le programme \nPoussins et benjamins de 10 heures à 12 heures : travail technique et randori \nMinimes\, cadets\, juniors et seniors de 14 heures à 16 heures : travail technique ; 16 heures à 17 heures : randori. \nChacun est libre de prendre part ou non au temps de randori \nCet entraînement est ouvert à tous les judokas licenciés.
URL:https://judoclubbrivois.fr/event/stage-de-rentree-a-yssingeaux/
LOCATION:Yssingeaux\, La Scie de Choumouroux\, Yssingeaux\, 43200\, France
CATEGORIES:Calendrier
ORGANIZER;CN="Comit%C3%A9 d%C3%A9partemental de la Haute-Loire":MAILTO:comite.judo43@aurajudo.com
END:VEVENT
BEGIN:VEVENT
DTSTART;TZID=Europe/Paris:20200912T100000
DTEND;TZID=Europe/Paris:20200912T120000
DTSTAMP:20260422T193423
CREATED:20200819T075238Z
LAST-MODIFIED:20200918T183528Z
UID:1485-1599904800-1599912000@judoclubbrivois.fr
SUMMARY:Forum des associations d'Arsac-en-velay
DESCRIPTION:
URL:https://judoclubbrivois.fr/event/forum-des-associations-darsac-en-velay/
LOCATION:Arsac-en-Velay\, Arsac-en-Velay\, Arsac-en-Velay\, 43700\, France
CATEGORIES:Calendrier
END:VEVENT
BEGIN:VEVENT
DTSTART;TZID=Europe/Paris:20200912T090000
DTEND;TZID=Europe/Paris:20200912T130000
DTSTAMP:20260422T193423
CREATED:20200819T075507Z
LAST-MODIFIED:20200819T075507Z
UID:1489-1599901200-1599915600@judoclubbrivois.fr
SUMMARY:Forum des associations de Lantriac
DESCRIPTION:Venez masqué !
URL:https://judoclubbrivois.fr/event/forum-des-associations-de-lantriac/
LOCATION:Lantriac\, Le Vourzet\, Lantriac\, 43260\, France
CATEGORIES:Calendrier
END:VEVENT
BEGIN:VEVENT
DTSTART;VALUE=DATE:20200905
DTEND;VALUE=DATE:20200906
DTSTAMP:20260422T193423
CREATED:20200819T075025Z
LAST-MODIFIED:20200819T075025Z
UID:1481-1599264000-1599350399@judoclubbrivois.fr
SUMMARY:Forum des associations de l'Agglomération du Puy-en-Velay
DESCRIPTION:Pensez à venir masqué !
URL:https://judoclubbrivois.fr/event/forum-des-associations-de-lagglomeration-du-puy-en-velay/
LOCATION:Halle des Orgues\, Halle des Orgues\, Espaly-Saint-Marcel\, 43000\, France
CATEGORIES:Calendrier
END:VEVENT
BEGIN:VEVENT
DTSTART;TZID=Europe/Paris:20200614T080000
DTEND;TZID=Europe/Paris:20200614T170000
DTSTAMP:20260422T193423
CREATED:20200116T095220Z
LAST-MODIFIED:20200116T095220Z
UID:1404-1592121600-1592154000@judoclubbrivois.fr
SUMMARY:Animation départementale de Monistrol/Loire
DESCRIPTION:Animation départementale de Monistrol/Loire.\nPlus d’infos à venir.
URL:https://judoclubbrivois.fr/event/animation-departementale-de-monistrol-loire/
LOCATION:Monistrol Budo\, allée Vitalis Royer\, Monistrol-sur-Loire\, 43120
CATEGORIES:Calendrier
ORGANIZER;CN="Monistrol Budo":MAILTO:monistrolbudo@gmail.com
END:VEVENT
BEGIN:VEVENT
DTSTART;TZID=Europe/Paris:20200517T083000
DTEND;TZID=Europe/Paris:20200517T170000
DTSTAMP:20260422T193423
CREATED:20200116T094843Z
LAST-MODIFIED:20200116T094843Z
UID:1400-1589704200-1589734800@judoclubbrivois.fr
SUMMARY:Animation départementale de Langeac
DESCRIPTION:Animation départementale de Langeac.\nDe 2015 à séniors.\nPlus d’infos à venir.
URL:https://judoclubbrivois.fr/event/animation-departementale-de-langeac/
LOCATION:Langeac\, Rue Pierre de Coubertin\, Langeac\, 43300\, France
CATEGORIES:Calendrier
END:VEVENT
BEGIN:VEVENT
DTSTART;TZID=Europe/Paris:20200405T083000
DTEND;TZID=Europe/Paris:20200405T170000
DTSTAMP:20260422T193423
CREATED:20200116T094347Z
LAST-MODIFIED:20200116T094347Z
UID:1396-1586075400-1586106000@judoclubbrivois.fr
SUMMARY:Animation départementale de Blavozy
DESCRIPTION:Animation départementale de Blavozy.\nDe 2015 à séniors.\nPlus d’infos à venir.
URL:https://judoclubbrivois.fr/event/animation-departementale-de-blavozy/
LOCATION:Blavozy\, Place Félix Tempère\, Blavozy\, 43700\, France
CATEGORIES:Calendrier
ORGANIZER;CN="Judo Club Blavozy":MAILTO:contact@judoblavozy.com
END:VEVENT
BEGIN:VEVENT
DTSTART;VALUE=DATE:20200305
DTEND;VALUE=DATE:20200306
DTSTAMP:20260422T193423
CREATED:20200226T144650Z
LAST-MODIFIED:20200226T144814Z
UID:1454-1583366400-1583452799@judoclubbrivois.fr
SUMMARY:Journée JUDO
DESCRIPTION:Une journée de stage spécial judo aura lieu pendant les vacances d’hiver\, pour les judokas nés en 2012 et avant\nle Jeudi 5 mars 9h- 17h\nTarif : 12€
URL:https://judoclubbrivois.fr/event/journee-judo/
LOCATION:Dojo de Corsac\, rue de Corsac\, Brives-CHarensac\, 43700\, France
CATEGORIES:Calendrier
ORGANIZER;CN="Judo Club Brivois":MAILTO:judoclubbrivois@gmail.com
END:VEVENT
BEGIN:VEVENT
DTSTART;TZID=Europe/Paris:20200225T093000
DTEND;TZID=Europe/Paris:20200225T203000
DTSTAMP:20260422T193423
CREATED:20200123T115823Z
LAST-MODIFIED:20200213T081721Z
UID:1434-1582623000-1582662600@judoclubbrivois.fr
SUMMARY:Entrainement avec Karuyuki Murakami
DESCRIPTION:
URL:https://judoclubbrivois.fr/event/entrainement-avec-karuyuki-murakami/
LOCATION:Yssingeaux\, La Scie de Choumouroux\, Yssingeaux\, 43200\, France
CATEGORIES:Calendrier
ORGANIZER;CN="Comit%C3%A9 d%C3%A9partemental de la Haute-Loire":MAILTO:comite.judo43@aurajudo.com
END:VEVENT
BEGIN:VEVENT
DTSTART;VALUE=DATE:20200216
DTEND;VALUE=DATE:20200217
DTSTAMP:20260422T193423
CREATED:20191117T111008Z
LAST-MODIFIED:20200113T130654Z
UID:1141-1581811200-1581897599@judoclubbrivois.fr
SUMMARY:Tournoi d'Yssingeaux
DESCRIPTION:Pour s’inscrire\, c’est ici. \nDimanche 16 Février 2020 le Judo Club d’Yssingeaux organise son Tournoi annuel pour les catégories d’âge Eveil (2015) à Cadet (2003) et une compétition par équipe de 3 Juniors/Séniors\, au Complexe Omnisports de Choumouroux. \n9h00 : Eveils 2014 & 2015 \n10h00 : Mini-Poussins (1) 2013 \n11h15 : Mini-Poussins (2) 2012 \n12h30 : Poussins 2011 & 2010 \n15h00 : Benjamins 2009 & 2008 \n16h15 : Minimes 2007 & 2006 / Cadets 2005 à 2003 \n17h45 : Equipes Juniors & Séniors
URL:https://judoclubbrivois.fr/event/tournoi-dyssingeaux/
LOCATION:Yssingeaux\, La Scie de Choumouroux\, Yssingeaux\, 43200\, France
CATEGORIES:Calendrier
END:VEVENT
BEGIN:VEVENT
DTSTART;TZID=Europe/Paris:20200131T173000
DTEND;TZID=Europe/Paris:20200131T203000
DTSTAMP:20260422T193423
CREATED:20200123T152241Z
LAST-MODIFIED:20200126T102500Z
UID:1437-1580491800-1580502600@judoclubbrivois.fr
SUMMARY:Judo en famille spécial Taïso
DESCRIPTION:Retour des vendredi « Judo en famille » au JCB le 31 janvier. \nPour bien attaquer l’année\, au programme : \n– 18h45 / 20h15 = Taïso pour tous. \nStéphane et Gilles vous accueilleront et travailleront sur des séquences taïso pour les jeunes et les parents. \nRendez-vous au dojo de Corsac à Brives.
URL:https://judoclubbrivois.fr/event/judo-en-famille-special-taiso/
LOCATION:Dojo de Corsac\, rue de Corsac\, Brives-CHarensac\, 43700\, France
CATEGORIES:Calendrier
ORGANIZER;CN="Judo Club Brivois":MAILTO:judoclubbrivois@gmail.com
END:VEVENT
BEGIN:VEVENT
DTSTART;VALUE=DATE:20200125
DTEND;VALUE=DATE:20200126
DTSTAMP:20260422T193423
CREATED:20190926T135559Z
LAST-MODIFIED:20190926T135559Z
UID:808-1579910400-1579996799@judoclubbrivois.fr
SUMMARY:Championnat départemental minimes et cadets
DESCRIPTION:Championnat départemental minimes et cadets au complexe sportif d’Yssingeaux.
URL:https://judoclubbrivois.fr/event/championnat-departemental-minimes-et-cadets/
LOCATION:Yssingeaux\, La Scie de Choumouroux\, Yssingeaux\, 43200\, France
CATEGORIES:Calendrier
ORGANIZER;CN="Ligue AURA":MAILTO:ligue@aurajudo.com
END:VEVENT
BEGIN:VEVENT
DTSTART;TZID=Europe/Paris:20200119T083000
DTEND;TZID=Europe/Paris:20200119T170000
DTSTAMP:20260422T193423
CREATED:20200106T172756Z
LAST-MODIFIED:20200109T203427Z
UID:1387-1579422600-1579453200@judoclubbrivois.fr
SUMMARY:Tournoi de Saint Ferréol d'Auroure
DESCRIPTION:Dimanche 19 Janvier\, premier tournoi de l’année\, à Saint Ferréol d’Auroure (43) pour les 2013 à 2008 au Gymnase municipal\, rue du Mont (terrain de foot) à Saint Ferréol d’Auroure 43330 \nINSCRIPTION A CE LIEN \nBENJAMINS (2008-2009) 9H \nEVEILS 2 (2014) 10H15 \nEVEILS 1 (2015) 11H00 \nMINI POUSSINS 1 (2013) 13H30 \nMINI-POUSSINS 2 (2012) 14H30 \nPOUSSINS 1 (2011) 15H30 \nPOUSSINS 2 (2010) 16H30
URL:https://judoclubbrivois.fr/event/19-janvier/
LOCATION:Pont Salomon\, Pont-Salomon\, 43330\, France
CATEGORIES:Calendrier
ORGANIZER;CN="Judo Club Pont Salomon":MAILTO:Stefalceman@orange.fr
END:VEVENT
BEGIN:VEVENT
DTSTART;VALUE=DATE:20191221
DTEND;VALUE=DATE:20191222
DTSTAMP:20260422T193423
CREATED:20191013T093359Z
LAST-MODIFIED:20191013T093359Z
UID:1052-1576886400-1576972799@judoclubbrivois.fr
SUMMARY:Animation départementale de La Talaudière
DESCRIPTION:Animation départementale de La Talaudière ouvert dès la catégorie mini-poussins.
URL:https://judoclubbrivois.fr/event/animation-departementale-de-la-talaudiere/
LOCATION:Judo Club La Talaudière\, Rue Georges Clemenceau\, La Talaudière\, 42351\, France
CATEGORIES:Calendrier
ORGANIZER;CN="Judo Club La Talaudi%C3%A8re":MAILTO:https://judoclublatalaudiere.sportsregions.fr/
END:VEVENT
BEGIN:VEVENT
DTSTART;TZID=Europe/Paris:20191217T183000
DTEND;TZID=Europe/Paris:20191217T200000
DTSTAMP:20260422T193423
CREATED:20191210T181440Z
LAST-MODIFIED:20191210T181440Z
UID:1245-1576607400-1576612800@judoclubbrivois.fr
SUMMARY:Noël au dojo
DESCRIPTION:
URL:https://judoclubbrivois.fr/event/noel-au-dojo/
LOCATION:Dojo de Corsac\, rue de Corsac\, Brives-CHarensac\, 43700\, France
CATEGORIES:Calendrier
ORGANIZER;CN="Judo Club Brivois":MAILTO:judoclubbrivois@gmail.com
END:VEVENT
END:VCALENDAR